BEGIN:VCALENDAR
VERSION:2.0
PRODID:-//Parohia Invierea Domnului - ECPv6.15.20//NONSGML v1.0//EN
CALSCALE:GREGORIAN
METHOD:PUBLISH
X-ORIGINAL-URL:https://parohia.org
X-WR-CALDESC:Events for Parohia Invierea Domnului
REFRESH-INTERVAL;VALUE=DURATION:PT1H
X-Robots-Tag:noindex
X-PUBLISHED-TTL:PT1H
BEGIN:VTIMEZONE
TZID:America/Los_Angeles
BEGIN:DAYLIGHT
TZOFFSETFROM:-0800
TZOFFSETTO:-0700
TZNAME:PDT
DTSTART:20150308T100000
END:DAYLIGHT
BEGIN:STANDARD
TZOFFSETFROM:-0700
TZOFFSETTO:-0800
TZNAME:PST
DTSTART:20151101T090000
END:STANDARD
BEGIN:DAYLIGHT
TZOFFSETFROM:-0800
TZOFFSETTO:-0700
TZNAME:PDT
DTSTART:20160313T100000
END:DAYLIGHT
BEGIN:STANDARD
TZOFFSETFROM:-0700
TZOFFSETTO:-0800
TZNAME:PST
DTSTART:20161106T090000
END:STANDARD
BEGIN:DAYLIGHT
TZOFFSETFROM:-0800
TZOFFSETTO:-0700
TZNAME:PDT
DTSTART:20170312T100000
END:DAYLIGHT
BEGIN:STANDARD
TZOFFSETFROM:-0700
TZOFFSETTO:-0800
TZNAME:PST
DTSTART:20171105T090000
END:STANDARD
BEGIN:DAYLIGHT
TZOFFSETFROM:-0800
TZOFFSETTO:-0700
TZNAME:PDT
DTSTART:20180311T100000
END:DAYLIGHT
BEGIN:STANDARD
TZOFFSETFROM:-0700
TZOFFSETTO:-0800
TZNAME:PST
DTSTART:20181104T090000
END:STANDARD
BEGIN:DAYLIGHT
TZOFFSETFROM:-0800
TZOFFSETTO:-0700
TZNAME:PDT
DTSTART:20190310T100000
END:DAYLIGHT
BEGIN:STANDARD
TZOFFSETFROM:-0700
TZOFFSETTO:-0800
TZNAME:PST
DTSTART:20191103T090000
END:STANDARD
BEGIN:DAYLIGHT
TZOFFSETFROM:-0800
TZOFFSETTO:-0700
TZNAME:PDT
DTSTART:20200308T100000
END:DAYLIGHT
BEGIN:STANDARD
TZOFFSETFROM:-0700
TZOFFSETTO:-0800
TZNAME:PST
DTSTART:20201101T090000
END:STANDARD
END:VTIMEZONE
BEGIN:VEVENT
DTSTART;VALUE=DATE:20190921
DTEND;VALUE=DATE:20190923
DTSTAMP:20260423T132751
CREATED:20190826T044329Z
LAST-MODIFIED:20190827T154640Z
UID:5373-1569024000-1569196799@parohia.org
SUMMARY:ROFEST - Romanian Food Festival
DESCRIPTION:Save the Date! \nBring your family and friends to enjoy Authenthic Romanian Dishes\, homemade Deserts\, Romanian Beer and Wine\,  BBQ\, Kids Activities\, Souvenirs\, Live Music\, Dancing and  Much More! \n 
URL:https://parohia.org/event/rofest/
LOCATION:Church Fundraising\, 26050 Kay Ave\, Hayward\, CA\, 94545\, United States
CATEGORIES:Picnic
ATTACH;FMTTYPE=image/png:https://parohia.org/wp-content/uploads/2019/08/19Poster.png
ORGANIZER;CN="Church":MAILTO:oficiuparohie@gmail.com
END:VEVENT
BEGIN:VEVENT
DTSTART;TZID=America/Los_Angeles:20160821T121500
DTEND;TZID=America/Los_Angeles:20160821T163000
DTSTAMP:20260423T132751
CREATED:20160804T004818Z
LAST-MODIFIED:20160804T004818Z
UID:1833-1471781700-1471797000@parohia.org
SUMMARY:Picnicul Adormirii Maicii Domnului
DESCRIPTION:Picnicul Adormirii Maicii Domnului
URL:https://parohia.org/event/picnicul-adormirii-maicii-domnului/
LOCATION:Slujba Dumnicala\, 26050 Kay Ave\, Hayward\, CA\, 94550\, United States
CATEGORIES:Picnic
END:VEVENT
END:VCALENDAR