BEGIN:VCALENDAR
VERSION:2.0
PRODID:-//Parohia Invierea Domnului - ECPv6.15.20//NONSGML v1.0//EN
CALSCALE:GREGORIAN
METHOD:PUBLISH
X-WR-CALNAME:Parohia Invierea Domnului
X-ORIGINAL-URL:https://parohia.org
X-WR-CALDESC:Events for Parohia Invierea Domnului
REFRESH-INTERVAL;VALUE=DURATION:PT1H
X-Robots-Tag:noindex
X-PUBLISHED-TTL:PT1H
BEGIN:VTIMEZONE
TZID:America/Los_Angeles
BEGIN:DAYLIGHT
TZOFFSETFROM:-0800
TZOFFSETTO:-0700
TZNAME:PDT
DTSTART:20180311T100000
END:DAYLIGHT
BEGIN:STANDARD
TZOFFSETFROM:-0700
TZOFFSETTO:-0800
TZNAME:PST
DTSTART:20181104T090000
END:STANDARD
BEGIN:DAYLIGHT
TZOFFSETFROM:-0800
TZOFFSETTO:-0700
TZNAME:PDT
DTSTART:20190310T100000
END:DAYLIGHT
BEGIN:STANDARD
TZOFFSETFROM:-0700
TZOFFSETTO:-0800
TZNAME:PST
DTSTART:20191103T090000
END:STANDARD
BEGIN:DAYLIGHT
TZOFFSETFROM:-0800
TZOFFSETTO:-0700
TZNAME:PDT
DTSTART:20200308T100000
END:DAYLIGHT
BEGIN:STANDARD
TZOFFSETFROM:-0700
TZOFFSETTO:-0800
TZNAME:PST
DTSTART:20201101T090000
END:STANDARD
BEGIN:DAYLIGHT
TZOFFSETFROM:-0800
TZOFFSETTO:-0700
TZNAME:PDT
DTSTART:20210314T100000
END:DAYLIGHT
BEGIN:STANDARD
TZOFFSETFROM:-0700
TZOFFSETTO:-0800
TZNAME:PST
DTSTART:20211107T090000
END:STANDARD
BEGIN:DAYLIGHT
TZOFFSETFROM:-0800
TZOFFSETTO:-0700
TZNAME:PDT
DTSTART:20220313T100000
END:DAYLIGHT
BEGIN:STANDARD
TZOFFSETFROM:-0700
TZOFFSETTO:-0800
TZNAME:PST
DTSTART:20221106T090000
END:STANDARD
END:VTIMEZONE
BEGIN:VEVENT
DTSTART;VALUE=DATE:20210502
DTEND;VALUE=DATE:20210503
DTSTAMP:20260423T144730
CREATED:20210502T070014Z
LAST-MODIFIED:20210428T055445Z
UID:12201-1619913600-1619999999@parohia.org
SUMMARY:Invierea Domnului 2021
DESCRIPTION:Peraznicul Invierii Domnului + Sfintele Pasti
URL:https://parohia.org/event/invierea-domnului-2021/
CATEGORIES:Slujbe
ATTACH;FMTTYPE=image/jpeg:https://parohia.org/wp-content/uploads/2019/08/Invierea-Domnului.jpg
ORGANIZER;CN="Church":MAILTO:oficiuparohie@gmail.com
END:VEVENT
BEGIN:VEVENT
DTSTART;TZID=America/Los_Angeles:20210306T083000
DTEND;TZID=America/Los_Angeles:20210306T110000
DTSTAMP:20260423T144730
CREATED:20210302T034852Z
LAST-MODIFIED:20210302T034852Z
UID:12340-1615019400-1615028400@parohia.org
SUMMARY:Mosi de Iarna - 6 Martie 8:30am
DESCRIPTION:Va invitam\, sambata 6 Martie\, la Sfintele Slujbe spre pomenirea celor adormiti: \n \n\n8:30 – Acatistul Maicii Domnului\n9:00 – Sf. Liturghie\n10:30 – Parastas de obste (30 min.) \nDumnezeu sa primeasca sfintele rugaciuni! \nVa rog sa-mi trimiteti\, prin email\, lista cu cei adormiti ai dumneavoastra pentru a fii pomeniti la sfintele slujbe. Daca aduceti pomelnicul la Sfanta Biserica\, va rog\, sa ajungeti cel tarziu la 8:45am. \nPuteti sa faceti colac sau coliva cum doriti. Pentru colac va pot da inf. de contact ale unei brutarii unde va puteti comanda : http://silvabakery.com/category/specialsevents/. \nIn afara de colac sau coliva mai este nevoie de o sticla de vin rosu. Aceste lucruri sunt obligatorii. In cazul cand faceti mai multi colaci unul cel putin\, sa fie mare. \nPomana este optionala. Unii ofera altii nu. Aici este decizia dv. cat si ce doriti sa oferiti. Referitor la continutul pomenii In intreaga lume ortodoxa veti intalnii obiceiuri si obiceiuri. Uneori se fac pachete in numar de 3\, 7\, 9\, 12 sau chiar 40. \nEsential sa oferiti aceste daruri in numele si pentru cei adormiti ai dumneavoastra. Darurile sunt oferite lui Dumnezeu intai\, apoi Biserica vi le da inapoi pentru a le impartiti membrilor comunitatii sau saracilor. O traditie generala este ca o parte sa ramana Sfintei Biserici si slujitorilor ei. \nDumnezeu sa primeasca darul dumneavoastra!
URL:https://parohia.org/event/mosi-de-iarna-6-martie-830am/
CATEGORIES:Slujbe
ATTACH;FMTTYPE=image/jpeg:https://parohia.org/wp-content/uploads/2020/02/parastas.jpg
ORGANIZER;CN="Church":MAILTO:oficiuparohie@gmail.com
END:VEVENT
BEGIN:VEVENT
DTSTART;TZID=America/Los_Angeles:20190915T080000
DTEND;TZID=America/Los_Angeles:20190915T170000
DTSTAMP:20260423T144730
CREATED:20190903T053638Z
LAST-MODIFIED:20190903T053831Z
UID:5595-1568534400-1568566800@parohia.org
SUMMARY:Sf. Liturghie
DESCRIPTION:Sf. Liturghie
URL:https://parohia.org/event/sf-liturghie-2/
CATEGORIES:Slujbe
ATTACH;FMTTYPE=image/jpeg:https://parohia.org/wp-content/uploads/2016/04/Sfinta-Liturghie-e1470098685355.jpg
END:VEVENT
BEGIN:VEVENT
DTSTART;TZID=America/Los_Angeles:20190908T100000
DTEND;TZID=America/Los_Angeles:20190908T120000
DTSTAMP:20260423T144730
CREATED:20190903T053122Z
LAST-MODIFIED:20190903T053341Z
UID:5593-1567936800-1567944000@parohia.org
SUMMARY:Sf. Liturghie
DESCRIPTION:Sfanta Liturghie
URL:https://parohia.org/event/sf-liturghie/
LOCATION:Slujba Dumnicala\, 26050 Kay Ave\, Hayward\, CA\, 94550\, United States
CATEGORIES:Slujbe
ATTACH;FMTTYPE=image/jpeg:https://parohia.org/wp-content/uploads/2016/04/Sfinta-Liturghie-e1470098685355.jpg
ORGANIZER;CN="Church":MAILTO:oficiuparohie@gmail.com
END:VEVENT
END:VCALENDAR